BEGIN:VCALENDAR
VERSION:2.0
PRODID:-//https://www.fourriversrealtors.com//NONSGML kigkonsult.se iCalcreator 2.41.71//
CALSCALE:GREGORIAN
METHOD:PUBLISH
UID:34356266-3639-4835-b134-323432383166
X-WR-CALNAME:JCal Pro Calendar
X-WR-CALDESC:Your online events calendar
X-WR-TIMEZONE:America/Chicago
BEGIN:VTIMEZONE
TZID:America/Chicago
TZUNTIL:20271107T070000Z
BEGIN:STANDARD
TZNAME:CST
DTSTART:20251102T020000
TZOFFSETFROM:-0500
TZOFFSETTO:-0600
RDATE:20261101T020000
END:STANDARD
BEGIN:DAYLIGHT
TZNAME:CDT
DTSTART:20260308T020000
TZOFFSETFROM:-0600
TZOFFSETTO:-0500
RDATE:20270314T020000
END:DAYLIGHT
END:VTIMEZONE
BEGIN:VEVENT
UID:20200204T100000CST-6409GKD7LH@http://fourriversrealtors.com/
DTSTAMP:20260420T105124Z
CATEGORIES:Partner Meetings
DTSTART;TZID=America/Chicago:20200204T103000
DTEND;TZID=America/Chicago:20200204T123000
RRULE:FREQ=MONTHLY;UNTIL=20201231T060000Z;INTERVAL=1;BYDAY=TU;BYSETPOS=1
SUMMARY:CTXMLS Advisory Council Meeting
URL:https://www.fourriversrealtors.com/resources/find-an-event/39-partner-m
 eetings/4327-ctxmls-advisory-council-meeting
END:VEVENT
END:VCALENDAR
