BEGIN:VCALENDAR
VERSION:2.0
PRODID:-//https://www.fourriversrealtors.com//NONSGML kigkonsult.se iCalcreator 2.41.71//
CALSCALE:GREGORIAN
METHOD:PUBLISH
UID:66633364-3034-4436-a136-663531373662
X-WR-CALNAME:JCal Pro Calendar
X-WR-CALDESC:Your online events calendar
X-WR-TIMEZONE:America/Chicago
BEGIN:VTIMEZONE
TZID:America/Mexico_City
BEGIN:STANDARD
TZNAME:CST
DTSTART:20240724T142413
TZOFFSETFROM:+0000
TZOFFSETTO:-0600
END:STANDARD
END:VTIMEZONE
BEGIN:VTIMEZONE
TZID:America/Chicago
TZUNTIL:20271107T070000Z
BEGIN:STANDARD
TZNAME:CST
DTSTART:20251102T020000
TZOFFSETFROM:-0500
TZOFFSETTO:-0600
RDATE:20261101T020000
END:STANDARD
BEGIN:DAYLIGHT
TZNAME:CDT
DTSTART:20260308T020000
TZOFFSETFROM:-0600
TZOFFSETTO:-0500
RDATE:20270314T020000
END:DAYLIGHT
END:VTIMEZONE
BEGIN:VEVENT
UID:20190625T110000CDT-0000wuudwp@http://fourriversrealtors.com/
DTSTAMP:20260425T142413Z
CATEGORIES:Association Events
DTSTART;TZID=America/Mexico_City:20190625T110000
DTEND;TZID=America/Mexico_City:20190625T120000
SUMMARY:Membership Luncheon
URL:https://www.fourriversrealtors.com/resources/find-an-event/20-associati
 on-events/3030-membership-luncheon-july-19
END:VEVENT
END:VCALENDAR
