BEGIN:VCALENDAR
VERSION:2.0
PRODID:-//https://www.fourriversrealtors.com//NONSGML kigkonsult.se iCalcreator 2.41.71//
CALSCALE:GREGORIAN
METHOD:PUBLISH
UID:34363963-6431-4432-b564-313034316432
X-WR-CALNAME:JCal Pro Calendar
X-WR-CALDESC:Your online events calendar
X-WR-TIMEZONE:America/Chicago
BEGIN:VTIMEZONE
TZID:America/Mexico_City
BEGIN:STANDARD
TZNAME:CST
DTSTART:20240719T105120
TZOFFSETFROM:+0000
TZOFFSETTO:-0600
END:STANDARD
END:VTIMEZONE
BEGIN:VTIMEZONE
TZID:America/Chicago
TZUNTIL:20271107T070000Z
BEGIN:STANDARD
TZNAME:CST
DTSTART:20251102T020000
TZOFFSETFROM:-0500
TZOFFSETTO:-0600
RDATE:20261101T020000
END:STANDARD
BEGIN:DAYLIGHT
TZNAME:CDT
DTSTART:20260308T020000
TZOFFSETFROM:-0600
TZOFFSETTO:-0500
RDATE:20270314T020000
END:DAYLIGHT
END:VTIMEZONE
BEGIN:VEVENT
UID:20190604T120000CDT-9065PBEHak@http://txmliws.rapams.com/
DTSTAMP:20260420T105120Z
CATEGORIES:Billing Due Reminder
DTSTART;TZID=America/Mexico_City:20190826T120000
DTEND;TZID=America/Mexico_City:20190826T130000
SUMMARY:Fall 2019 CTXMLS Subscription Invoices Billed
URL:https://www.fourriversrealtors.com/hidden-calendar-dashboard/40-billing
 -due-reminder/2439-fall-2019-ctxmls-invoices-billed
END:VEVENT
END:VCALENDAR
