BEGIN:VCALENDAR
VERSION:2.0
PRODID:-//https://www.fourriversrealtors.com//NONSGML kigkonsult.se iCalcreator 2.41.71//
CALSCALE:GREGORIAN
METHOD:PUBLISH
UID:37363464-3131-4536-b239-653630366665
X-WR-CALNAME:JCal Pro Calendar
X-WR-CALDESC:Your online events calendar
X-WR-TIMEZONE:America/Chicago
BEGIN:VTIMEZONE
TZID:America/Chicago
TZUNTIL:20271107T070000Z
BEGIN:STANDARD
TZNAME:CST
DTSTART:20251102T020000
TZOFFSETFROM:-0500
TZOFFSETTO:-0600
RDATE:20261101T020000
END:STANDARD
BEGIN:DAYLIGHT
TZNAME:CDT
DTSTART:20260308T020000
TZOFFSETFROM:-0600
TZOFFSETTO:-0500
RDATE:20270314T020000
END:DAYLIGHT
END:VTIMEZONE
BEGIN:VEVENT
UID:20260521T230000UTC-0822SL2FOO@https://fourriversrealtors.com/
DTSTAMP:20260422T193737Z
CATEGORIES:Facility Rental
DTSTART;TZID=America/Chicago:20260527T090000
DTEND;TZID=America/Chicago:20260527T110000
SUMMARY:The Claude AI Crash Course for RE Agents - Capital Title of Texas
URL:https://www.fourriversrealtors.com/hidden-calendar-dashboard/35-facilit
 y-rental/11404-the-claude-ai-crash-course-for-re-agents-capital-title-of-t
 exas
END:VEVENT
END:VCALENDAR
