BEGIN:VCALENDAR
VERSION:2.0
PRODID:-//https://www.fourriversrealtors.com//NONSGML kigkonsult.se iCalcreator 2.41.71//
CALSCALE:GREGORIAN
METHOD:PUBLISH
UID:33336163-3732-4164-a363-323039313330
X-WR-CALNAME:JCal Pro Calendar
X-WR-CALDESC:Your online events calendar
X-WR-TIMEZONE:America/Chicago
BEGIN:VTIMEZONE
TZID:America/Chicago
TZUNTIL:20271107T070000Z
BEGIN:STANDARD
TZNAME:CST
DTSTART:20251102T020000
TZOFFSETFROM:-0500
TZOFFSETTO:-0600
RDATE:20261101T020000
END:STANDARD
BEGIN:DAYLIGHT
TZNAME:CDT
DTSTART:20260308T020000
TZOFFSETFROM:-0600
TZOFFSETTO:-0500
RDATE:20270314T020000
END:DAYLIGHT
END:VTIMEZONE
BEGIN:VEVENT
UID:20260212T113000UTC-98987HCEVL@https://fourriversrealtors.com/
DTSTAMP:20260422T115521Z
CATEGORIES:Facility Rental
DTSTART;TZID=America/Chicago:20260318T113000
DTEND;TZID=America/Chicago:20260318T140000
SUMMARY:Data Base Marketing - Old Republic Title
URL:https://www.fourriversrealtors.com/hidden-calendar-dashboard/35-facilit
 y-rental/10748-data-base-marketing-old-republic-title
END:VEVENT
END:VCALENDAR
