BEGIN:VCALENDAR
VERSION:2.0
PRODID:-//https://www.fourriversrealtors.com//NONSGML kigkonsult.se iCalcreator 2.41.71//
CALSCALE:GREGORIAN
METHOD:PUBLISH
UID:34396435-6265-4362-a166-343132336566
X-WR-CALNAME:JCal Pro Calendar
X-WR-CALDESC:Your online events calendar
X-WR-TIMEZONE:America/Chicago
BEGIN:VTIMEZONE
TZID:America/Chicago
TZUNTIL:20271107T070000Z
BEGIN:STANDARD
TZNAME:CST
DTSTART:20251102T020000
TZOFFSETFROM:-0500
TZOFFSETTO:-0600
RDATE:20261101T020000
END:STANDARD
BEGIN:DAYLIGHT
TZNAME:CDT
DTSTART:20260308T020000
TZOFFSETFROM:-0600
TZOFFSETTO:-0500
RDATE:20270314T020000
END:DAYLIGHT
END:VTIMEZONE
BEGIN:VEVENT
UID:20260112T100000UTC-4831vlviJv@https://fourriversrealtors.com/
DTSTAMP:20260423T234726Z
CATEGORIES:Partner Meetings
DTSTART;TZID=America/Chicago:20260323T100000
DTEND;TZID=America/Chicago:20260323T130000
RRULE:FREQ=MONTHLY;UNTIL=20261221T060000Z;INTERVAL=1;BYDAY=MO;BYSETPOS=3
SUMMARY:CTXMLS Board of Governors Meeting
URL:https://www.fourriversrealtors.com/calendar/events-calendar/39-partner-
 meetings/11348-ctxmls-board-of-governors-meeting-2
END:VEVENT
BEGIN:VEVENT
UID:20251224T083000UTC-1000Cw6u6m@https://fourriversrealtors.com/
DTSTAMP:20260423T234726Z
CATEGORIES:Holidays and/or Office Closed
DESCRIPTION:<p><span style='font-family: 'comic sans ms'\, sans-serif\; fon
 t-size: 18pt\;'>Four Rivers AOR will be closed in Observance of the Christ
 mas Holiday. We will reopen on Monday\, December 28th at 09:30am.&nbsp\;</
 span></p>
DTSTART;TZID=America/Chicago:20261224T083000
DTEND;TZID=America/Chicago:20261225T170000
SUMMARY:Christmas Holiday - OFFICE CLOSED
URL:https://www.fourriversrealtors.com/calendar/events-calendar/42-holidays
 -office-closed/10448-christmas-holiday-office-closed
X-ALT-DESC;FMTTYPE=TEXT/HTML:<p><span style='font-family: 'comic sans ms'\,
  sans-serif\; font-size: 18pt\;'>Four Rivers AOR will be closed in Observa
 nce of the Christmas Holiday. We will reopen on Monday\, December 28th at 
 09:30am.&nbsp\;</span></p>
END:VEVENT
END:VCALENDAR
