BEGIN:VCALENDAR
VERSION:2.0
PRODID:-//https://www.fourriversrealtors.com//NONSGML kigkonsult.se iCalcreator 2.41.71//
CALSCALE:GREGORIAN
METHOD:PUBLISH
UID:62646662-6238-4638-b763-383138316537
X-WR-CALNAME:JCal Pro Calendar
X-WR-CALDESC:Your online events calendar
X-WR-TIMEZONE:America/Chicago
BEGIN:VTIMEZONE
TZID:America/Chicago
TZUNTIL:20271107T070000Z
BEGIN:STANDARD
TZNAME:CST
DTSTART:20251102T020000
TZOFFSETFROM:-0500
TZOFFSETTO:-0600
RDATE:20261101T020000
END:STANDARD
BEGIN:DAYLIGHT
TZNAME:CDT
DTSTART:20260308T020000
TZOFFSETFROM:-0600
TZOFFSETTO:-0500
RDATE:20270314T020000
END:DAYLIGHT
END:VTIMEZONE
BEGIN:VEVENT
UID:20260520T110000UTC-6233mWwcvU@https://fourriversrealtors.com/
DTSTAMP:20260422T194618Z
CATEGORIES:Facility Rental
DESCRIPTION:<h5>Pilgrim Mortgage</h5>\n<h5>Home Warranty of America</h5>\n<
 h5>First American Title&nbsp\;</h5>
DTSTART;TZID=America/Chicago:20260520T110000
DTEND;TZID=America/Chicago:20260520T120000
SUMMARY:A.I. Tools
URL:https://www.fourriversrealtors.com/calendar/events-calendar/35-facility
 -rental/11405-a-i-tools
X-ALT-DESC;FMTTYPE=TEXT/HTML:<h5>Pilgrim Mortgage</h5>\n<h5>Home Warranty o
 f America</h5>\n<h5>First American Title&nbsp\;</h5>
END:VEVENT
END:VCALENDAR
