BEGIN:VCALENDAR
VERSION:2.0
PRODID:-//https://www.fourriversrealtors.com//NONSGML kigkonsult.se iCalcreator 2.41.71//
CALSCALE:GREGORIAN
METHOD:PUBLISH
UID:34643030-3265-4461-a632-643665353432
X-WR-CALNAME:JCal Pro Calendar
X-WR-CALDESC:Your online events calendar
X-WR-TIMEZONE:America/Chicago
BEGIN:VTIMEZONE
TZID:America/Chicago
TZUNTIL:20271107T070000Z
BEGIN:STANDARD
TZNAME:CST
DTSTART:20251102T020000
TZOFFSETFROM:-0500
TZOFFSETTO:-0600
RDATE:20261101T020000
END:STANDARD
BEGIN:DAYLIGHT
TZNAME:CDT
DTSTART:20260308T020000
TZOFFSETFROM:-0600
TZOFFSETTO:-0500
RDATE:20270314T020000
END:DAYLIGHT
END:VTIMEZONE
BEGIN:VEVENT
UID:20241205T090000UTC-7338k8FOx1@https://fourriversrealtors.com/
DTSTAMP:20260424T073533Z
CATEGORIES:Association Education Classes
DESCRIPTION:<ul>\n<li><span style='font-size: 18pt\;'><strong>4 CE HR</stro
 ng></span></li>\n<li><span style='font-size: 18pt\;'><strong>9:00 am - 1:0
 0 pm&nbsp\;</strong></span></li>\n<li><span style='font-size: 18pt\;'><str
 ong>No Cost&nbsp\;</strong></span></li>\n<li><span style='font-size: 18pt\
 ;'><strong>Course No. 48361</strong></span></li>\n<li><span style='font-si
 ze: 18pt\;'><strong>Provider-Texas REALTORS® #1</strong></span></li>\n<li>
 <span style='font-size: 18pt\;'><strong><strong>Zoom Class (off site instr
 uctor via Zoom)&nbsp\;</strong></strong></span></li>\n<li><span style='fon
 t-size: 18pt\;'><strong>Instructor-Erica Goff</strong></span>&nbsp\;</li>
 \n</ul>\n<table>\n<tbody>\n<tr>\n<td>\n<p><span style='font-size: 18pt\;'>
 <strong>Course description</strong></span></p>\n</td>\n<td><span style='fo
 nt-size: 18pt\;'></span></td>\n</tr>\n</tbody>\n</table>\n<p><span style='
 font-size: 18pt\;'><strong>This course by will provide knowledge to real e
 state agents using Clareity and Matrix. Course will cover Clareity dashboa
 rd and resources\, Matrix basic functions as well as tools and tricks! Inf
 ormation in this course will help agents use the systems more effectively\
 , and also save them time and frustration.</strong></span></p>\n<p><span s
 tyle='font-size: 18pt\; color: #ff6600\;'>Join Zoom Meeting</span></p>\n<p
 ><span style='color: #3366ff\;'><a href='https://us02web.zoom.us/j/8701817
 4912' style='color: #3366ff\;'></a><span style='font-size: 18pt\;'><a href
 ='https://us02web.zoom.us/j/87018174912' style='color: #3366ff\;'>https://
 us02web.zoom.us/j/87018174912</a></span></span></p>\n<p><span style='font-
 size: 18pt\;'>Meeting ID: 870 1817 4912</span></p>
DTSTART;TZID=America/Chicago:20241205T090000
DTEND;TZID=America/Chicago:20241205T130000
SUMMARY:4 HR CE Class: (Free) How to Make Your Job Easier with Clareity and
  Matrix (Virtual)
URL:https://www.fourriversrealtors.com/calendar/events-calendar/22-associat
 ion-classes/9106-4-hr-ce-class-free-how-to-make-your-job-easier-with-clare
 ity-and-matrix-virtual
X-ALT-DESC;FMTTYPE=TEXT/HTML:<ul>\n<li><span style='font-size: 18pt\;'><str
 ong>4 CE HR</strong></span></li>\n<li><span style='font-size: 18pt\;'><str
 ong>9:00 am - 1:00 pm&nbsp\;</strong></span></li>\n<li><span style='font-s
 ize: 18pt\;'><strong>No Cost&nbsp\;</strong></span></li>\n<li><span style=
 'font-size: 18pt\;'><strong>Course No. 48361</strong></span></li>\n<li><sp
 an style='font-size: 18pt\;'><strong>Provider-Texas REALTORS® #1</strong><
 /span></li>\n<li><span style='font-size: 18pt\;'><strong><strong>Zoom Clas
 s (off site instructor via Zoom)&nbsp\;</strong></strong></span></li>\n<li
 ><span style='font-size: 18pt\;'><strong>Instructor-Erica Goff</strong></s
 pan>&nbsp\;</li>\n</ul>\n<table>\n<tbody>\n<tr>\n<td>\n<p><span style='fon
 t-size: 18pt\;'><strong>Course description</strong></span></p>\n</td>\n<td
 ><span style='font-size: 18pt\;'></span></td>\n</tr>\n</tbody>\n</table>\n
 <p><span style='font-size: 18pt\;'><strong>This course by will provide kno
 wledge to real estate agents using Clareity and Matrix. Course will cover 
 Clareity dashboard and resources\, Matrix basic functions as well as tools
  and tricks! Information in this course will help agents use the systems m
 ore effectively\, and also save them time and frustration.</strong></span>
 </p>\n<p><span style='font-size: 18pt\; color: #ff6600\;'>Join Zoom Meetin
 g</span></p>\n<p><span style='color: #3366ff\;'><a href='https://us02web.z
 oom.us/j/87018174912' style='color: #3366ff\;'></a><span style='font-size:
  18pt\;'><a href='https://us02web.zoom.us/j/87018174912' style='color: #33
 66ff\;'>https://us02web.zoom.us/j/87018174912</a></span></span></p>\n<p><s
 pan style='font-size: 18pt\;'>Meeting ID: 870 1817 4912</span></p>
END:VEVENT
END:VCALENDAR
