BEGIN:VCALENDAR
VERSION:2.0
PRODID:-//https://www.fourriversrealtors.com//NONSGML kigkonsult.se iCalcreator 2.41.71//
CALSCALE:GREGORIAN
METHOD:PUBLISH
UID:61396532-3330-4535-a161-623366613663
X-WR-CALNAME:JCal Pro Calendar
X-WR-CALDESC:Your online events calendar
X-WR-TIMEZONE:America/Chicago
BEGIN:VTIMEZONE
TZID:America/Chicago
TZUNTIL:20271107T070000Z
BEGIN:STANDARD
TZNAME:CST
DTSTART:20251102T020000
TZOFFSETFROM:-0500
TZOFFSETTO:-0600
RDATE:20261101T020000
END:STANDARD
BEGIN:DAYLIGHT
TZNAME:CDT
DTSTART:20260308T020000
TZOFFSETFROM:-0600
TZOFFSETTO:-0500
RDATE:20270314T020000
END:DAYLIGHT
END:VTIMEZONE
BEGIN:VEVENT
UID:20251208T103000UTC-49325zxTUW@https://fourriversrealtors.com/
DTSTAMP:20260423T185543Z
CATEGORIES:FRAR Committee Meetings
DESCRIPTION:<p><span style='font-size: 18pt\;'>For more information on this
  committee\, please contact the Mark Gibson\, <joomla-hidden-mail  is-link
 ='1' is-email='1' first='bWFya2dpYnNvbg==' last='a3cuY29t' text='bWFya2dpY
 nNvbkBrdy5jb20=' base='' >This email address is being protected from spamb
 ots. You need JavaScript enabled to view it.</joomla-hidden-mail>&nbsp\;.<
 /span></p>
DTSTART;TZID=America/Chicago:20260113T090000
DTEND;TZID=America/Chicago:20260113T100000
RRULE:FREQ=MONTHLY;UNTIL=20261214T060000Z;INTERVAL=1;BYDAY=TU;BYSETPOS=2
SUMMARY:Caldwell County Government Affairs Committee Meeting
URL:https://www.fourriversrealtors.com/calendar/events-calendar/21-committe
 e-meeting/10604-caldwell-county-government-affairs-committee-meeting
X-ALT-DESC;FMTTYPE=TEXT/HTML:<p><span style='font-size: 18pt\;'>For more in
 formation on this committee\, please contact the Mark Gibson\, <joomla-hid
 den-mail  is-link='1' is-email='1' first='bWFya2dpYnNvbg==' last='a3cuY29t
 ' text='bWFya2dpYnNvbkBrdy5jb20=' base='' >This email address is being pro
 tected from spambots. You need JavaScript enabled to view it.</joomla-hidd
 en-mail>&nbsp\;.</span></p>
END:VEVENT
END:VCALENDAR
