BEGIN:VCALENDAR
VERSION:2.0
PRODID:-//https://www.fourriversrealtors.com//NONSGML kigkonsult.se iCalcreator 2.41.71//
CALSCALE:GREGORIAN
METHOD:PUBLISH
UID:36313033-3862-4335-b164-666363613862
X-WR-CALNAME:JCal Pro Calendar
X-WR-CALDESC:Your online events calendar
X-WR-TIMEZONE:America/Chicago
BEGIN:VTIMEZONE
TZID:America/Chicago
TZUNTIL:20271107T070000Z
BEGIN:STANDARD
TZNAME:CST
DTSTART:20251102T020000
TZOFFSETFROM:-0500
TZOFFSETTO:-0600
RDATE:20261101T020000
END:STANDARD
BEGIN:DAYLIGHT
TZNAME:CDT
DTSTART:20260308T020000
TZOFFSETFROM:-0600
TZOFFSETTO:-0500
RDATE:20270314T020000
END:DAYLIGHT
END:VTIMEZONE
BEGIN:VEVENT
UID:20240108T100000UTC-1656hDkPa5@https://fourriversrealtors.com/
DTSTAMP:20260420T105130Z
CATEGORIES:Partner Meetings
DTSTART;TZID=America/Chicago:20240318T100000
DTEND;TZID=America/Chicago:20240318T130000
SUMMARY:CTXMLS Board of Governors Meeting
URL:https://www.fourriversrealtors.com/about-us/classes-events/39-partner-m
 eetings/8560-ctxmls-board-of-governors-meeting
END:VEVENT
END:VCALENDAR
